BEGIN:VCALENDAR
VERSION:2.0
PRODID:-//LI Science &amp; Engineering Fair, Inc. - ECPv6.0.4//NONSGML v1.0//EN
CALSCALE:GREGORIAN
METHOD:PUBLISH
X-WR-CALNAME:LI Science &amp; Engineering Fair, Inc.
X-ORIGINAL-URL:https://www.lisef.org
X-WR-CALDESC:Events for LI Science &amp; Engineering Fair, Inc.
REFRESH-INTERVAL;VALUE=DURATION:PT1H
X-Robots-Tag:noindex
X-PUBLISHED-TTL:PT1H
BEGIN:VTIMEZONE
TZID:America/New_York
BEGIN:DAYLIGHT
TZOFFSETFROM:-0500
TZOFFSETTO:-0400
TZNAME:EDT
DTSTART:20200308T070000
END:DAYLIGHT
BEGIN:STANDARD
TZOFFSETFROM:-0400
TZOFFSETTO:-0500
TZNAME:EST
DTSTART:20201101T060000
END:STANDARD
END:VTIMEZONE
BEGIN:VEVENT
DTSTART;TZID=America/New_York:20200309T160000
DTEND;TZID=America/New_York:20200309T160000
DTSTAMP:20260422T052502
CREATED:20190815T142124Z
LAST-MODIFIED:20190815T142124Z
UID:1295-1583769600-1583769600@www.lisef.org
SUMMARY:Round 2 Stuffing Meeting
DESCRIPTION:Round 2 Stuffing Meeting\, Room LR1
URL:https://www.lisef.org/event/round-2-stuffing-meeting/
LOCATION:Syosset High School\, 70 Southwoods Road\, Syosset\, NY\, 11791\, United States
END:VEVENT
BEGIN:VEVENT
DTSTART;VALUE=DATE:20200312
DTEND;VALUE=DATE:20200313
DTSTAMP:20260422T052502
CREATED:20190815T142143Z
LAST-MODIFIED:20190821T205259Z
UID:1297-1583971200-1584057599@www.lisef.org
SUMMARY:LISEF Day 2 & Awards Ceremony
DESCRIPTION:LISEF Day 2 and Awards Ceremony
URL:https://www.lisef.org/event/lisef-day-2-awards-ceremony/
LOCATION:Crest Hollow Country Club\, 8325 Jericho Turnpike\, Woodbury\, NY\, 11797\, United States
END:VEVENT
BEGIN:VEVENT
DTSTART;VALUE=DATE:20200312
DTEND;VALUE=DATE:20200313
DTSTAMP:20260422T052502
CREATED:20190815T142202Z
LAST-MODIFIED:20200324T153201Z
UID:1299-1583971200-1584057599@www.lisef.org
SUMMARY:Junior Varsity Fair & Awards Ceremony
DESCRIPTION:Postponed
URL:https://www.lisef.org/event/junior-varsity-fair-awards-ceremony/
LOCATION:Crest Hollow Country Club\, 8325 Jericho Turnpike\, Woodbury\, NY\, 11797\, United States
END:VEVENT
BEGIN:VEVENT
DTSTART;VALUE=DATE:20200312
DTEND;VALUE=DATE:20200313
DTSTAMP:20260422T052502
CREATED:20190815T142221Z
LAST-MODIFIED:20200324T153215Z
UID:1301-1583971200-1584057599@www.lisef.org
SUMMARY:Broadcom MASTERS Middle School Science Fair & Awards Ceremony
DESCRIPTION:Postponed
URL:https://www.lisef.org/event/broadcom-masters-middle-school-science-fair-awards-ceremony/
LOCATION:Crest Hollow Country Club\, 8325 Jericho Turnpike\, Woodbury\, NY\, 11797\, United States
END:VEVENT
END:VCALENDAR