BEGIN:VCALENDAR
VERSION:2.0
PRODID:-//LI Science &amp; Engineering Fair, Inc. - ECPv6.0.4//NONSGML v1.0//EN
CALSCALE:GREGORIAN
METHOD:PUBLISH
X-WR-CALNAME:LI Science &amp; Engineering Fair, Inc.
X-ORIGINAL-URL:https://www.lisef.org
X-WR-CALDESC:Events for LI Science &amp; Engineering Fair, Inc.
REFRESH-INTERVAL;VALUE=DURATION:PT1H
X-Robots-Tag:noindex
X-PUBLISHED-TTL:PT1H
BEGIN:VTIMEZONE
TZID:America/New_York
BEGIN:DAYLIGHT
TZOFFSETFROM:-0500
TZOFFSETTO:-0400
TZNAME:EDT
DTSTART:20260308T070000
END:DAYLIGHT
BEGIN:STANDARD
TZOFFSETFROM:-0400
TZOFFSETTO:-0500
TZNAME:EST
DTSTART:20261101T060000
END:STANDARD
END:VTIMEZONE
BEGIN:VEVENT
DTSTART;TZID=America/New_York:20260116T150000
DTEND;TZID=America/New_York:20260116T150000
DTSTAMP:20260421T181139
CREATED:20200923T183937Z
LAST-MODIFIED:20250823T212034Z
UID:2238-1768575600-1768575600@www.lisef.org
SUMMARY:Student PDF Upload Deadline
DESCRIPTION:
URL:https://www.lisef.org/event/student-upload-deadline/
END:VEVENT
BEGIN:VEVENT
DTSTART;TZID=America/New_York:20260116T150000
DTEND;TZID=America/New_York:20260116T150000
DTSTAMP:20260421T181139
CREATED:20200923T184021Z
LAST-MODIFIED:20250823T212218Z
UID:2240-1768575600-1768575600@www.lisef.org
SUMMARY:LISEF Abstract Editing Deadline
DESCRIPTION:LISEF Abstract Editing Deadline
URL:https://www.lisef.org/event/lisef-abstract-editing-deadline/
END:VEVENT
BEGIN:VEVENT
DTSTART;TZID=America/New_York:20260116T150000
DTEND;TZID=America/New_York:20260116T150000
DTSTAMP:20260421T181139
CREATED:20201217T223635Z
LAST-MODIFIED:20250823T212242Z
UID:2511-1768575600-1768575600@www.lisef.org
SUMMARY:LISEF Title Editing Deadline
DESCRIPTION:LISEF Title Editing Deadline
URL:https://www.lisef.org/event/title-editing-deadline/
END:VEVENT
BEGIN:VEVENT
DTSTART;TZID=America/New_York:20260116T200000
DTEND;TZID=America/New_York:20260116T200000
DTSTAMP:20260421T181139
CREATED:20210921T202559Z
LAST-MODIFIED:20250823T211916Z
UID:2746-1768593600-1768593600@www.lisef.org
SUMMARY:Deadline for School Liaison to Verify Upload Project
DESCRIPTION:Deadline for School Liaison to Verify Upload Project
URL:https://www.lisef.org/event/deadline-for-school-liaison-to-approve-youtube-video-content/
END:VEVENT
END:VCALENDAR