BEGIN:VCALENDAR
VERSION:2.0
PRODID:-//LI Science &amp; Engineering Fair, Inc. - ECPv6.0.4//NONSGML v1.0//EN
CALSCALE:GREGORIAN
METHOD:PUBLISH
X-ORIGINAL-URL:https://www.lisef.org
X-WR-CALDESC:Events for LI Science &amp; Engineering Fair, Inc.
REFRESH-INTERVAL;VALUE=DURATION:PT1H
X-Robots-Tag:noindex
X-PUBLISHED-TTL:PT1H
BEGIN:VTIMEZONE
TZID:America/New_York
BEGIN:DAYLIGHT
TZOFFSETFROM:-0500
TZOFFSETTO:-0400
TZNAME:EDT
DTSTART:20250309T070000
END:DAYLIGHT
BEGIN:STANDARD
TZOFFSETFROM:-0400
TZOFFSETTO:-0500
TZNAME:EST
DTSTART:20251102T060000
END:STANDARD
END:VTIMEZONE
BEGIN:VEVENT
DTSTART;VALUE=DATE:20251112
DTEND;VALUE=DATE:20251113
DTSTAMP:20260421T134709
CREATED:20210921T202001Z
LAST-MODIFIED:20250823T212652Z
UID:2732-1762905600-1762991999@www.lisef.org
SUMMARY:LISEF\, JV LISEF and Middle School Registration Opens
DESCRIPTION:Registration opens for LISEF and JV LISEF Liaisons and Students  \n***Please note liaisons MUST register before students *** \n  \nRegistration opens for Middle School Liaisons.  Middle School students do not register for this event.
URL:https://www.lisef.org/event/lisef-liaison-and-student-registration-opens/
END:VEVENT
BEGIN:VEVENT
DTSTART;TZID=America/New_York:20251112T200000
DTEND;TZID=America/New_York:20251112T200000
DTSTAMP:20260421T134709
CREATED:20210921T201853Z
LAST-MODIFIED:20250823T212619Z
UID:2730-1762977600-1762977600@www.lisef.org
SUMMARY:Commitment Agreement Deadline 8 PM
DESCRIPTION:Deadline to submit/upload LISEF Commitment Agreement
URL:https://www.lisef.org/event/commitment-agreement-deadline/
END:VEVENT
END:VCALENDAR