BEGIN:VCALENDAR
VERSION:2.0
PRODID:-//LI Science &amp; Engineering Fair, Inc. - ECPv6.0.4//NONSGML v1.0//EN
CALSCALE:GREGORIAN
METHOD:PUBLISH
X-WR-CALNAME:LI Science &amp; Engineering Fair, Inc.
X-ORIGINAL-URL:https://www.lisef.org
X-WR-CALDESC:Events for LI Science &amp; Engineering Fair, Inc.
REFRESH-INTERVAL;VALUE=DURATION:PT1H
X-Robots-Tag:noindex
X-PUBLISHED-TTL:PT1H
BEGIN:VTIMEZONE
TZID:America/New_York
BEGIN:DAYLIGHT
TZOFFSETFROM:-0500
TZOFFSETTO:-0400
TZNAME:EDT
DTSTART:20250309T070000
END:DAYLIGHT
BEGIN:STANDARD
TZOFFSETFROM:-0400
TZOFFSETTO:-0500
TZNAME:EST
DTSTART:20251102T060000
END:STANDARD
END:VTIMEZONE
BEGIN:VEVENT
DTSTART;TZID=America/New_York:20251023T160000
DTEND;TZID=America/New_York:20251023T173000
DTSTAMP:20260421T122253
CREATED:20190815T134347Z
LAST-MODIFIED:20250823T212729Z
UID:1237-1761235200-1761240600@www.lisef.org
SUMMARY:SRC In-Person Workshop and LISEF October Monthly Meeting
DESCRIPTION:Live Event \n4:00 – 5:30 PM \nSyosset High School \nRoom E-7 \nThe LISEF SRC co-chairs will review rule changes\, ISEF forms\, common errors and common challenges teachers face. We will then open the floor for a Q&A session.  \nThis workshop will be co-sponsored by STANYS Suffolk Section – 2 CTLE credits can be earned for participating. \nComplete the following form to register and to share any questions you have so that we can tailor the presentations to your needs: \nhttps://forms.gle/KqFTmL4id4Az8m357  \nPlease note that generic SRC questions will be addressed but questions related to a specific project can be sent to SRC@lisef.org. 
URL:https://www.lisef.org/event/october-monthly-meeting/
LOCATION:Virtual/ Zoom\, NY\, United States
END:VEVENT
END:VCALENDAR