BEGIN:VCALENDAR
VERSION:2.0
PRODID:-//LI Science &amp; Engineering Fair, Inc. - ECPv6.0.4//NONSGML v1.0//EN
CALSCALE:GREGORIAN
METHOD:PUBLISH
X-WR-CALNAME:LI Science &amp; Engineering Fair, Inc.
X-ORIGINAL-URL:https://www.lisef.org
X-WR-CALDESC:Events for LI Science &amp; Engineering Fair, Inc.
REFRESH-INTERVAL;VALUE=DURATION:PT1H
X-Robots-Tag:noindex
X-PUBLISHED-TTL:PT1H
BEGIN:VTIMEZONE
TZID:America/New_York
BEGIN:DAYLIGHT
TZOFFSETFROM:-0500
TZOFFSETTO:-0400
TZNAME:EDT
DTSTART:20250309T070000
END:DAYLIGHT
BEGIN:STANDARD
TZOFFSETFROM:-0400
TZOFFSETTO:-0500
TZNAME:EST
DTSTART:20251102T060000
END:STANDARD
END:VTIMEZONE
BEGIN:VEVENT
DTSTART;VALUE=DATE:20250823
DTEND;VALUE=DATE:20250824
DTSTAMP:20260421T062402
CREATED:20210921T202624Z
LAST-MODIFIED:20250823T211800Z
UID:2748-1755907200-1755993599@www.lisef.org
SUMMARY:Virtual Judging Window Opens for Round 1
DESCRIPTION:Virtual Judging Window Opens for Round 1 
URL:https://www.lisef.org/event/virtual-judging-window-opens-for-round-1/
END:VEVENT
BEGIN:VEVENT
DTSTART;VALUE=DATE:20250823
DTEND;VALUE=DATE:20250824
DTSTAMP:20260421T062402
CREATED:20210921T202715Z
LAST-MODIFIED:20250823T211748Z
UID:2752-1755907200-1755993599@www.lisef.org
SUMMARY:Receipt of LISEF Payment Deadline
DESCRIPTION:Receipt of LISEF Payment Deadline
URL:https://www.lisef.org/event/receipt-of-lisef-payment-deadline-2/
END:VEVENT
END:VCALENDAR