BEGIN:VCALENDAR
VERSION:2.0
PRODID:-//LI Science &amp; Engineering Fair, Inc. - ECPv6.0.4//NONSGML v1.0//EN
CALSCALE:GREGORIAN
METHOD:PUBLISH
X-ORIGINAL-URL:https://www.lisef.org
X-WR-CALDESC:Events for LI Science &amp; Engineering Fair, Inc.
REFRESH-INTERVAL;VALUE=DURATION:PT1H
X-Robots-Tag:noindex
X-PUBLISHED-TTL:PT1H
BEGIN:VTIMEZONE
TZID:America/New_York
BEGIN:DAYLIGHT
TZOFFSETFROM:-0500
TZOFFSETTO:-0400
TZNAME:EDT
DTSTART:20200308T070000
END:DAYLIGHT
BEGIN:STANDARD
TZOFFSETFROM:-0400
TZOFFSETTO:-0500
TZNAME:EST
DTSTART:20201101T060000
END:STANDARD
END:VTIMEZONE
BEGIN:VEVENT
DTSTART;VALUE=DATE:20201201
DTEND;VALUE=DATE:20201202
DTSTAMP:20260421T172651
CREATED:20200923T183127Z
LAST-MODIFIED:20200923T183429Z
UID:2224-1606780800-1606867199@www.lisef.org
SUMMARY:LISEF School Liaison Registration Opens
DESCRIPTION:LISEF School Liaison Registration Opens \nPlease Note: Liaison MUST register BEFORE Adult Sponsors & Students!
URL:https://www.lisef.org/event/lisef-school-liaison-registration-opens/
END:VEVENT
BEGIN:VEVENT
DTSTART;VALUE=DATE:20201201
DTEND;VALUE=DATE:20201202
DTSTAMP:20260421T172651
CREATED:20200923T183154Z
LAST-MODIFIED:20200923T183154Z
UID:2226-1606780800-1606867199@www.lisef.org
SUMMARY:LISEF Student Registration Opens
DESCRIPTION:LISEF Student Registration Opens
URL:https://www.lisef.org/event/lisef-student-registration-opens/
END:VEVENT
END:VCALENDAR