BEGIN:VCALENDAR
VERSION:2.0
PRODID:-//LI Science &amp; Engineering Fair, Inc. - ECPv6.0.4//NONSGML v1.0//EN
CALSCALE:GREGORIAN
METHOD:PUBLISH
X-WR-CALNAME:LI Science &amp; Engineering Fair, Inc.
X-ORIGINAL-URL:https://www.lisef.org
X-WR-CALDESC:Events for LI Science &amp; Engineering Fair, Inc.
REFRESH-INTERVAL;VALUE=DURATION:PT1H
X-Robots-Tag:noindex
X-PUBLISHED-TTL:PT1H
BEGIN:VTIMEZONE
TZID:America/New_York
BEGIN:DAYLIGHT
TZOFFSETFROM:-0500
TZOFFSETTO:-0400
TZNAME:EDT
DTSTART:20200308T070000
END:DAYLIGHT
BEGIN:STANDARD
TZOFFSETFROM:-0400
TZOFFSETTO:-0500
TZNAME:EST
DTSTART:20201101T060000
END:STANDARD
END:VTIMEZONE
BEGIN:VEVENT
DTSTART;VALUE=DATE:20200205
DTEND;VALUE=DATE:20200206
DTSTAMP:20260422T082423
CREATED:20190815T141409Z
LAST-MODIFIED:20190821T204731Z
UID:1279-1580860800-1580947199@www.lisef.org
SUMMARY:LISEF Day 1
DESCRIPTION:LISEF Day 1
URL:https://www.lisef.org/event/lisef-day-1/
LOCATION:Crest Hollow Country Club\, 8325 Jericho Turnpike\, Woodbury\, NY\, 11797\, United States
END:VEVENT
END:VCALENDAR